BEGIN:VCALENDAR
VERSION:2.0
PRODID:icalendar-ruby
CALSCALE:GREGORIAN
X-WR-TIMEZONE:Europe/Helsinki
BEGIN:VTIMEZONE
TZID:Europe/Helsinki
BEGIN:DAYLIGHT
DTSTART:20260329T040000
TZOFFSETFROM:+0200
TZOFFSETTO:+0300
RRULE:FREQ=YEARLY;BYDAY=-1SU;BYMONTH=3
TZNAME:EEST
END:DAYLIGHT
BEGIN:STANDARD
DTSTART:20261025T030000
TZOFFSETFROM:+0300
TZOFFSETTO:+0200
RRULE:FREQ=YEARLY;BYDAY=-1SU;BYMONTH=10
TZNAME:EET
END:STANDARD
END:VTIMEZONE
BEGIN:VEVENT
DTSTAMP:20260421T140730
UID:turunurheiluliitto.myclub.fi-10383253
DTSTART;TZID=Europe/Helsinki:20260603T150000
DTEND;TZID=Europe/Helsinki:20260603T150000
DESCRIPTION:Järjestämme matalan kynnyksen yleisurheilukoulua kesällä Pa
 nsiossa 12 viikon ajan. Toiminta on suunnattu ensisijaisesti 2015-2019 syn
 tyneille. Yleisurheilukoulussa harjoitellaan monipuolisesti eri yleisurhei
 lulajeja osaavien ja innostavien ohjaajien johdolla. Mukaan voi tulla ilma
 n aikaisempaa lajikokemusta.\nWe are organizing a low-threshold athletics 
 school in Pansio for 12 weeks during the summer. The program is primarily 
 intended for children born between 2015 and 2019. At the athletics school\
 , participants will practice a wide range of track and field events under 
 the guidance of skilled and inspiring coaches. No previous experience in a
 thletics is required to join.\n\nhttps://turunurheiluliitto.myclub.fi/flow
 /events/10383253
LOCATION:Pansio\, Kisapuiston kenttä\, Pernontie 18\, 20240 Turku\, Suomi
SEQUENCE:0
SUMMARY:Yleisurheilujaosto: Pansion kesäyleisurheilukoulu
URL;VALUE=URI:https://turunurheiluliitto.myclub.fi/flow/events/10383253
END:VEVENT
END:VCALENDAR
