BEGIN:VCALENDAR
VERSION:2.0
PRODID:icalendar-ruby
CALSCALE:GREGORIAN
X-WR-TIMEZONE:Europe/Helsinki
BEGIN:VTIMEZONE
TZID:Europe/Helsinki
BEGIN:DAYLIGHT
DTSTART:20260329T040000
TZOFFSETFROM:+0200
TZOFFSETTO:+0300
RRULE:FREQ=YEARLY;BYDAY=-1SU;BYMONTH=3
TZNAME:EEST
END:DAYLIGHT
BEGIN:STANDARD
DTSTART:20261025T030000
TZOFFSETFROM:+0300
TZOFFSETTO:+0200
RRULE:FREQ=YEARLY;BYDAY=-1SU;BYMONTH=10
TZNAME:EET
END:STANDARD
END:VTIMEZONE
BEGIN:VEVENT
DTSTAMP:20260421T113818
UID:turunurheiluliitto.myclub.fi-10391492
DTSTART;TZID=Europe/Helsinki:20260527T180000
DTEND;TZID=Europe/Helsinki:20260527T180000
DESCRIPTION:Yleisurheilukoulussa tutustutaan laajasti eri yleisurheilulajei
 hin. Harjoittelussa keskitytään yleisurheilun perustaitoihin\; juoksemis
 een\, hyppäämiseen ja heittämiseen. Etenkin 2020 syntyneiden ryhmässä
  painotetaan perusliikuntataitojen oppimista ja motoriikan harjoittelua. T
 aitoja harjoitellaan osin pelien ja leikkien avulla. Tavoitteena on synnyt
 tää lapsen innostus urheilua kohtaan ja tarjota jokaiselle positiivinen 
 liikuntakokemus turvallisessa ympäristössä.\n2020 syntyneiden yleisurhe
 ilukoulun harjoitukset pidetään Paavo Nurmen Stadionilla keskiviikkoisin
  klo 18:00-19:00. Kesäkauden harjoitukset 27.5.-12.8.2026. (12 kertaa).\n
 Lähetämme tarkempaa tietoa harjoituksista sähköpostilla noin viikkoa e
 nnen harjoitusten alkua.\nHinta 115 € / sisältää ohjatut harjoitukset
  (12krt)\, lisenssin\, jäsenmaksun ja yleisurheilukoulun t-paidan.\n\nhtt
 ps://turunurheiluliitto.myclub.fi/flow/events/10391492
LOCATION:Paavo Nurmen Stadion\, 
SEQUENCE:0
SUMMARY:Yleisurheilujaosto: Kesäyleisurheilukoulu 2020 syntyneille / Keski
 viikkoisin klo 18-19 Paavo Nurmen Stadionilla
URL;VALUE=URI:https://turunurheiluliitto.myclub.fi/flow/events/10391492
END:VEVENT
END:VCALENDAR
