BEGIN:VCALENDAR
VERSION:2.0
PRODID:icalendar-ruby
CALSCALE:GREGORIAN
X-WR-TIMEZONE:Europe/Helsinki
BEGIN:VTIMEZONE
TZID:Europe/Helsinki
BEGIN:DAYLIGHT
DTSTART:20260329T040000
TZOFFSETFROM:+0200
TZOFFSETTO:+0300
RRULE:FREQ=YEARLY;BYDAY=-1SU;BYMONTH=3
TZNAME:EEST
END:DAYLIGHT
BEGIN:STANDARD
DTSTART:20261025T030000
TZOFFSETFROM:+0300
TZOFFSETTO:+0200
RRULE:FREQ=YEARLY;BYDAY=-1SU;BYMONTH=10
TZNAME:EET
END:STANDARD
END:VTIMEZONE
BEGIN:VEVENT
DTSTAMP:20260423T154217
UID:turunurheiluliitto.myclub.fi-10606433
DTSTART;TZID=Europe/Helsinki:20260602T175000
DTEND;TZID=Europe/Helsinki:20260602T175000
DESCRIPTION:Ohjatut harjoitukset tiistaisin ja omatoimiset harjoitukset tor
 staisin klo 17:50-18:50. Lauantaisin ehtii treenata juhannukseen asti\, jo
 nka jälkeen Alfa menee viikonlopuiksi kiinni.\nTuo salille näytettäväk
 si kuitti nyrkkeilyliiton lisenssin maksusta\, jonka voi tehdä osoitteess
 a suomisport.fi. Valitse lajiksi nyrkkeily ja seuraksi Turun Urheiluliitto
 .\nLaskun voi maksaa myös liikuntaseteleillä.\n\n\nhttps://turunurheilul
 iitto.myclub.fi/flow/events/10606433
LOCATION:Liikuntakeskus Alfa\, Raunistulantie 15\, 20300  Turku
SEQUENCE:0
SUMMARY:Nyrkkeily aikuiset - kuntonyrkkeily: Ilmoittautuminen kuntonyrkkeil
 yn kesätreenit 2026
URL;VALUE=URI:https://turunurheiluliitto.myclub.fi/flow/events/10606433
END:VEVENT
END:VCALENDAR
