BEGIN:VCALENDAR
VERSION:2.0
PRODID:icalendar-ruby
CALSCALE:GREGORIAN
X-WR-TIMEZONE:Europe/Helsinki
BEGIN:VTIMEZONE
TZID:Europe/Helsinki
BEGIN:DAYLIGHT
DTSTART:20260329T040000
TZOFFSETFROM:+0200
TZOFFSETTO:+0300
RRULE:FREQ=YEARLY;BYDAY=-1SU;BYMONTH=3
TZNAME:EEST
END:DAYLIGHT
BEGIN:STANDARD
DTSTART:20261025T030000
TZOFFSETFROM:+0300
TZOFFSETTO:+0200
RRULE:FREQ=YEARLY;BYDAY=-1SU;BYMONTH=10
TZNAME:EET
END:STANDARD
END:VTIMEZONE
BEGIN:VEVENT
DTSTAMP:20260423T154114
UID:turunurheiluliitto.myclub.fi-10607170
DTSTART;TZID=Europe/Helsinki:20260603T190000
DTEND;TZID=Europe/Helsinki:20260603T190000
DESCRIPTION:Itäharjun harrasteryhmien\, Paattisten koulun ryhmän ja Alfan
  sunnuntairyhmän tasoa vastaava\, kerran viikossa pidettävä kesätreeni
 \, johon voi osallistua matalalla kynnyksellä. Painopiste perustekniikass
 a ja kunnon kohottamisessa.\nHuom! Harjoitukset Turku Fighting Centerillä
  (Ilmarisenkatu 12\, 20520\, matala valkoinen rakennus\, käynti kadun puo
 lelta).\nVarusteiksi riittävät sisäliikuntavarusteet\, myös kengät vo
 i olla\, sillä nyrkkeilyssä käytetään tossuja. Suosittelemme hankkima
 an oman hyppynarun ja tennispallon. Hanskat voi lainata salilta. Seuralla 
 on myös myytävänä edullisia kuntonyrkkeilyhanskoja sekä käsisiteitä
 .\nJos sinulla ei vielä ole lisenssiä\, hanki se SuomiSportista. Tuo sal
 ille näytettäväksi kuitti nyrkkeilyliiton lisenssin maksusta\, jonka vo
 i tehdä osoitteessa suomisport.fi. Valitse lajiksi nyrkkeily ja seuraksi 
 Turun Urheiluliitto. Lisenssin oston yhteydessä on mahdollista ostaa vapa
 aehtoinen vakuutus seuratoiminnassa tapahtuvien haavereiden varalta.\n\nht
 tps://turunurheiluliitto.myclub.fi/flow/events/10607170
LOCATION:Turku Fighting Center\, Ilmarisenkatu 12\, 20520 Turku
SEQUENCE:0
SUMMARY:Nyrkkeily juniorit harrasteryhmä: Junioreiden harrasteryhmän kes
 ätreenit Itäharjulla 11-15-vuotiaille
URL;VALUE=URI:https://turunurheiluliitto.myclub.fi/flow/events/10607170
END:VEVENT
END:VCALENDAR
